BEGIN:VCALENDAR
VERSION:2.0
PRODID:-//Texarkana College Community Education - ECPv6.15.20//NONSGML v1.0//EN
CALSCALE:GREGORIAN
METHOD:PUBLISH
X-ORIGINAL-URL:https://cbe.texarkanacollege.edu
X-WR-CALDESC:Events for Texarkana College Community Education
REFRESH-INTERVAL;VALUE=DURATION:PT1H
X-Robots-Tag:noindex
X-PUBLISHED-TTL:PT1H
BEGIN:VTIMEZONE
TZID:America/Chicago
BEGIN:DAYLIGHT
TZOFFSETFROM:-0600
TZOFFSETTO:-0500
TZNAME:CDT
DTSTART:20250309T080000
END:DAYLIGHT
BEGIN:STANDARD
TZOFFSETFROM:-0500
TZOFFSETTO:-0600
TZNAME:CST
DTSTART:20251102T070000
END:STANDARD
BEGIN:DAYLIGHT
TZOFFSETFROM:-0600
TZOFFSETTO:-0500
TZNAME:CDT
DTSTART:20260308T080000
END:DAYLIGHT
BEGIN:STANDARD
TZOFFSETFROM:-0500
TZOFFSETTO:-0600
TZNAME:CST
DTSTART:20261101T070000
END:STANDARD
BEGIN:DAYLIGHT
TZOFFSETFROM:-0600
TZOFFSETTO:-0500
TZNAME:CDT
DTSTART:20270314T080000
END:DAYLIGHT
BEGIN:STANDARD
TZOFFSETFROM:-0500
TZOFFSETTO:-0600
TZNAME:CST
DTSTART:20271107T070000
END:STANDARD
END:VTIMEZONE
BEGIN:VEVENT
DTSTART;TZID=America/Chicago:20261012T080000
DTEND;TZID=America/Chicago:20261012T170000
DTSTAMP:20260421T091253
CREATED:20260306T211925Z
LAST-MODIFIED:20260408T141622Z
UID:77480-1791792000-1791824400@cbe.texarkanacollege.edu
SUMMARY:Introduction to Bladesmithing - Fall 2026
DESCRIPTION:Course Overview:This two-week course combines engaging lectures with hands-on experience\, perfect for anyone interested in crafting high-quality\, hand-forged blades. Participants will explore metal selection\, blade functionality\, and various design styles. Key techniques such as hammer forging\, annealing\, heat treating\, grinding\, and tempering will be taught in detail. \n\n\n\nStudents will create semi-finished blades and evaluate them for cutting performance\, edge retention\, hardness\, and flexibility. By the end of the course\, most participants will have produced a blade capable of meeting the cutting and bending standards of the American Bladesmith Society’s Journeyman test. \n\n\n\nPlease fill out this form to register! Texarkana College Community Education Registration Form Once you fill out the form above\, someone from our office will contact you regarding payment and registration completion.
URL:https://cbe.texarkanacollege.edu/register/introduction-to-bladesmithing-fall-2026/
LOCATION:Bill Moran School of Bladesmithing – B.R. Hughes Classroom\, 2500 N. Robison Rd.\, Texarkana\, Texas\, 75503\, United States
CATEGORIES:Bladesmith
END:VEVENT
END:VCALENDAR

