BEGIN:VCALENDAR
VERSION:2.0
PRODID:-//Texarkana College Community Education - ECPv6.15.20//NONSGML v1.0//EN
CALSCALE:GREGORIAN
METHOD:PUBLISH
X-ORIGINAL-URL:https://cbe.texarkanacollege.edu
X-WR-CALDESC:Events for Texarkana College Community Education
REFRESH-INTERVAL;VALUE=DURATION:PT1H
X-Robots-Tag:noindex
X-PUBLISHED-TTL:PT1H
BEGIN:VTIMEZONE
TZID:America/Chicago
BEGIN:DAYLIGHT
TZOFFSETFROM:-0600
TZOFFSETTO:-0500
TZNAME:CDT
DTSTART:20250309T080000
END:DAYLIGHT
BEGIN:STANDARD
TZOFFSETFROM:-0500
TZOFFSETTO:-0600
TZNAME:CST
DTSTART:20251102T070000
END:STANDARD
BEGIN:DAYLIGHT
TZOFFSETFROM:-0600
TZOFFSETTO:-0500
TZNAME:CDT
DTSTART:20260308T080000
END:DAYLIGHT
BEGIN:STANDARD
TZOFFSETFROM:-0500
TZOFFSETTO:-0600
TZNAME:CST
DTSTART:20261101T070000
END:STANDARD
BEGIN:DAYLIGHT
TZOFFSETFROM:-0600
TZOFFSETTO:-0500
TZNAME:CDT
DTSTART:20270314T080000
END:DAYLIGHT
BEGIN:STANDARD
TZOFFSETFROM:-0500
TZOFFSETTO:-0600
TZNAME:CST
DTSTART:20271107T070000
END:STANDARD
END:VTIMEZONE
BEGIN:VEVENT
DTSTART;TZID=America/Chicago:20261116T080000
DTEND;TZID=America/Chicago:20261116T170000
DTSTAMP:20260422T045437
CREATED:20260306T213739Z
LAST-MODIFIED:20260408T141647Z
UID:77484-1794816000-1794848400@cbe.texarkanacollege.edu
SUMMARY:Handles & Guards - Fall 2026
DESCRIPTION:This hands-on course covers detailed techniques for crafting and finishing knife handles\, including both full-tang and hidden tang styles. Students will explore the art of guards\, butt caps\, decorative file work\, spiral dagger handles\, silver inlay\, and blade finishing. \n\n\n\nWhat to Bring: Please bring one full-tang blade ready for fitting. A hidden tang blade will be provided\, and if time allows\, students may begin working on an additional blade in the shop.
URL:https://cbe.texarkanacollege.edu/register/handles-guards-fall-2026/
LOCATION:Bill Moran School of Bladesmithing – B.R. Hughes Classroom\, 2500 N. Robison Rd.\, Texarkana\, Texas\, 75503\, United States
CATEGORIES:Bladesmith
END:VEVENT
END:VCALENDAR

