BEGIN:VCALENDAR
VERSION:2.0
PRODID:-//Texarkana College Community Education - ECPv6.15.20//NONSGML v1.0//EN
CALSCALE:GREGORIAN
METHOD:PUBLISH
X-ORIGINAL-URL:https://cbe.texarkanacollege.edu
X-WR-CALDESC:Events for Texarkana College Community Education
REFRESH-INTERVAL;VALUE=DURATION:PT1H
X-Robots-Tag:noindex
X-PUBLISHED-TTL:PT1H
BEGIN:VTIMEZONE
TZID:America/Chicago
BEGIN:DAYLIGHT
TZOFFSETFROM:-0600
TZOFFSETTO:-0500
TZNAME:CDT
DTSTART:20240310T080000
END:DAYLIGHT
BEGIN:STANDARD
TZOFFSETFROM:-0500
TZOFFSETTO:-0600
TZNAME:CST
DTSTART:20241103T070000
END:STANDARD
BEGIN:DAYLIGHT
TZOFFSETFROM:-0600
TZOFFSETTO:-0500
TZNAME:CDT
DTSTART:20250309T080000
END:DAYLIGHT
BEGIN:STANDARD
TZOFFSETFROM:-0500
TZOFFSETTO:-0600
TZNAME:CST
DTSTART:20251102T070000
END:STANDARD
BEGIN:DAYLIGHT
TZOFFSETFROM:-0600
TZOFFSETTO:-0500
TZNAME:CDT
DTSTART:20260308T080000
END:DAYLIGHT
BEGIN:STANDARD
TZOFFSETFROM:-0500
TZOFFSETTO:-0600
TZNAME:CST
DTSTART:20261101T070000
END:STANDARD
BEGIN:DAYLIGHT
TZOFFSETFROM:-0600
TZOFFSETTO:-0500
TZNAME:CDT
DTSTART:20270314T080000
END:DAYLIGHT
BEGIN:STANDARD
TZOFFSETFROM:-0500
TZOFFSETTO:-0600
TZNAME:CST
DTSTART:20271107T070000
END:STANDARD
END:VTIMEZONE
BEGIN:VEVENT
DTSTART;TZID=America/Chicago:20260413T080000
DTEND;TZID=America/Chicago:20260413T170000
DTSTAMP:20260424T000130
CREATED:20251028T205419Z
LAST-MODIFIED:20260410T150348Z
UID:73932-1776067200-1776099600@cbe.texarkanacollege.edu
SUMMARY:Introduction to Bladesmithing
DESCRIPTION:Course Overview:This two-week course combines engaging lectures with hands-on experience\, perfect for anyone interested in crafting high-quality\, hand-forged blades. Participants will explore metal selection\, blade functionality\, and various design styles. Key techniques such as hammer forging\, annealing\, heat treating\, grinding\, and tempering will be taught in detail. \n\n\n\nStudents will create semi-finished blades and evaluate them for cutting performance\, edge retention\, hardness\, and flexibility. By the end of the course\, most participants will have produced a blade capable of meeting the cutting and bending standards of the American Bladesmith Society’s Journeyman test. \n\n\n\nPlease fill out this form to register! Texarkana College Community Education Registration Form
URL:https://cbe.texarkanacollege.edu/register/introduction-to-bladesmithing-10/
LOCATION:Bill Moran School of Bladesmithing – B.R. Hughes Classroom\, 2500 N. Robison Rd.\, Texarkana\, Texas\, 75503\, United States
CATEGORIES:Bladesmith
END:VEVENT
BEGIN:VEVENT
DTSTART;TZID=America/Chicago:20260313T070000
DTEND;TZID=America/Chicago:20260315T170000
DTSTAMP:20260424T000130
CREATED:20251027T204651Z
LAST-MODIFIED:20251205T151310Z
UID:73894-1773385200-1773594000@cbe.texarkanacollege.edu
SUMMARY:Damascus Steel
DESCRIPTION:Instructor: Don McIntosh \n\n\n\nDamascus Blade PatternsThis in-depth course explores the fundamentals of Damascus steel pattern creation\, including basic designs\, variations\, and advanced manipulation techniques. Students will gain the skills needed to consistently produce high-quality Damascus blades in a variety of patterns. By the end of the course\, each participant should be able to craft a finished blade to take home.Prerequisite: Completion of Introduction to Bladesmithing at Texarkana College or achievement of Journeyman Smith level.
URL:https://cbe.texarkanacollege.edu/register/damascus-steel-8/
LOCATION:Bill Moran School of Bladesmithing – B.R. Hughes Classroom\, 2500 N. Robison Rd.\, Texarkana\, Texas\, 75503\, United States
CATEGORIES:Bladesmith
END:VEVENT
BEGIN:VEVENT
DTSTART;TZID=America/Chicago:20260224T173000
DTEND;TZID=America/Chicago:20260310T200000
DTSTAMP:20260424T000130
CREATED:20251118T195606Z
LAST-MODIFIED:20260218T140804Z
UID:74678-1771954200-1773172800@cbe.texarkanacollege.edu
SUMMARY:Traditional Blacksmithing
DESCRIPTION:TUESDAY NIGHTS from 5:30 – 8:00pm \n\n\n\nStep into the forge and experience the timeless craft of blacksmithing! This hands-on workshop introduces students to the traditional techniques of shaping metal with fire\, hammer\, and anvil. Under the guidance of expert blacksmith Jerome LeGrand\, participants will learn essential skills such as heating\, drawing out\, bending\, and riveting steel. By the end of the class\, each student will create a functional pair of blacksmith tongs—a tool every blacksmith needs and a perfect keepsake from your day at the forge. Discover the artistry and strength behind one of the oldest trades in history. Whether you’re a beginner or simply curious\, this class offers a unique opportunity to learn a skill that has stood the test of time. \n\n\n\n\n\n\n\nDetails: \n\n\n\n\nAge Requirement: 18+\n\n\n\nAll materials and safety equipment provided\n\n\n\nNo prior experience necessary—just bring your enthusiasm!
URL:https://cbe.texarkanacollege.edu/register/traditional-blacksmithing/
LOCATION:Bill Moran School of Bladesmithing – B.R. Hughes Classroom\, 2500 N. Robison Rd.\, Texarkana\, Texas\, 75503\, United States
CATEGORIES:Arts & Crafts,General Interest,Industry Skills
END:VEVENT
BEGIN:VEVENT
DTSTART;TZID=America/Chicago:20260206T080000
DTEND;TZID=America/Chicago:20260208T170000
DTSTAMP:20260424T000130
CREATED:20251027T202519Z
LAST-MODIFIED:20251215T140147Z
UID:73879-1770364800-1770570000@cbe.texarkanacollege.edu
SUMMARY:Hunting Knives - Using Full Tang Construction
DESCRIPTION:Instructor: Don McIntosh \n\n\n\nIn this class\, students will learn the art of forging a knife where the blade\, bolster\, and tang are crafted from a single piece of steel—known as integral design. With the addition of a custom handle\, each knife becomes a unique and highly durable tool. By the end of the course\, students should be able to complete and take home their own finished knife.
URL:https://cbe.texarkanacollege.edu/register/integral-hunting-knives-2/
LOCATION:Bill Moran School of Bladesmithing – B.R. Hughes Classroom\, 2500 N. Robison Rd.\, Texarkana\, Texas\, 75503\, United States
CATEGORIES:Bladesmith
END:VEVENT
BEGIN:VEVENT
DTSTART;TZID=America/Chicago:20251013T080000
DTEND;TZID=America/Chicago:20251024T170000
DTSTAMP:20260424T000130
CREATED:20250217T221619Z
LAST-MODIFIED:20250819T215009Z
UID:66162-1760342400-1761325200@cbe.texarkanacollege.edu
SUMMARY:Introduction to Bladesmithing
DESCRIPTION:This 2-week course includes lecture and hands-on work and is designed for anyone interested in making quality hand-forged blades. Metal selection\, function\, and different blade designs will be discussed. Hammer forging to shape\, annealing\, heat treating\, grinding\, and tempering will be taught. These semi-finished blades will be tested for their cutting ability\, edge holding\, hardness and flexibility. Most participants should be able tomake a blade that is capable of passing the American Bladesmith Society Journeyman test for cutting and bending by the end of this course. \n\n\n\nClass will be held October 13-24\, 2025; Monday-Friday 8am-5pm \n\n\n\nInstructors: Brion Tomberlin and Greg Neely \n\n\n\nTo Register/Enroll: \n\n\n\nPlease Note: Online Registration is Not Available.  \n\n\n\nTo begin the enrollment process\, please visit our office in person at the Community and Business Education Center located in the Nelson Administration Building on TC Campus.   \n\n\n\nIf you live outside the Texarkana area\, you may email us at: continuing.ed@texarkanacollege.edu to request a registration form and arrange payment over the phone. Payment is due at the time of enrollment.  \n\n\n\nFor questions about this course or the enrollment process\, please call 903-823-3382 or 903-832-3270.
URL:https://cbe.texarkanacollege.edu/register/introduction-to-bladesmithing-9/
LOCATION:Bill Moran School of Bladesmithing – B.R. Hughes Classroom\, 2500 N. Robison Rd.\, Texarkana\, Texas\, 75503\, United States
CATEGORIES:Bladesmith
END:VEVENT
BEGIN:VEVENT
DTSTART;TZID=America/Chicago:20250505T080000
DTEND;TZID=America/Chicago:20250509T170000
DTSTAMP:20260424T000130
CREATED:20250225T204622Z
LAST-MODIFIED:20250228T162156Z
UID:66216-1746432000-1746810000@cbe.texarkanacollege.edu
SUMMARY:Chef Knives W/ Optional Cutting Board Class
DESCRIPTION:In this five-day workshop students will complete a forged\, full tang chef knife with a classic European blade profile.  All aspects of knifemaking will be covered\, including forging\, griding\, heat treatment\, safety\, tools\, material selection and kitchen knife design theory.  The blades will be high carbon steel with a hardwood handle.  Students should expect to complete one 6-8” chef knife.  Beginner bladesmithing skills are strongly recommended but not necessary. \n\n\n\nInstructor will be Brion Tomberlin
URL:https://cbe.texarkanacollege.edu/register/chef-knives-w-optional-cutting-board-class/
LOCATION:Bill Moran School of Bladesmithing – B.R. Hughes Classroom\, 2500 N. Robison Rd.\, Texarkana\, Texas\, 75503\, United States
CATEGORIES:Bladesmith
END:VEVENT
END:VCALENDAR

