BEGIN:VCALENDAR
VERSION:2.0
PRODID:-//Texarkana College Community Education - ECPv6.15.20//NONSGML v1.0//EN
CALSCALE:GREGORIAN
METHOD:PUBLISH
X-ORIGINAL-URL:https://cbe.texarkanacollege.edu
X-WR-CALDESC:Events for Texarkana College Community Education
REFRESH-INTERVAL;VALUE=DURATION:PT1H
X-Robots-Tag:noindex
X-PUBLISHED-TTL:PT1H
BEGIN:VTIMEZONE
TZID:America/Chicago
BEGIN:DAYLIGHT
TZOFFSETFROM:-0600
TZOFFSETTO:-0500
TZNAME:CDT
DTSTART:20240310T080000
END:DAYLIGHT
BEGIN:STANDARD
TZOFFSETFROM:-0500
TZOFFSETTO:-0600
TZNAME:CST
DTSTART:20241103T070000
END:STANDARD
BEGIN:DAYLIGHT
TZOFFSETFROM:-0600
TZOFFSETTO:-0500
TZNAME:CDT
DTSTART:20250309T080000
END:DAYLIGHT
BEGIN:STANDARD
TZOFFSETFROM:-0500
TZOFFSETTO:-0600
TZNAME:CST
DTSTART:20251102T070000
END:STANDARD
BEGIN:DAYLIGHT
TZOFFSETFROM:-0600
TZOFFSETTO:-0500
TZNAME:CDT
DTSTART:20260308T080000
END:DAYLIGHT
BEGIN:STANDARD
TZOFFSETFROM:-0500
TZOFFSETTO:-0600
TZNAME:CST
DTSTART:20261101T070000
END:STANDARD
BEGIN:DAYLIGHT
TZOFFSETFROM:-0600
TZOFFSETTO:-0500
TZNAME:CDT
DTSTART:20270314T080000
END:DAYLIGHT
BEGIN:STANDARD
TZOFFSETFROM:-0500
TZOFFSETTO:-0600
TZNAME:CST
DTSTART:20271107T070000
END:STANDARD
END:VTIMEZONE
BEGIN:VEVENT
DTSTART;TZID=America/Chicago:20260305T180000
DTEND;TZID=America/Chicago:20260305T210000
DTSTAMP:20260422T004511
CREATED:20251027T180742Z
LAST-MODIFIED:20260305T173821Z
UID:73828-1772733600-1772744400@cbe.texarkanacollege.edu
SUMMARY:Let's Talk About Kids
DESCRIPTION:Let’s Talk About Kids is being conducted to provide information to families and children who are affected by divorce. The seminar is open to all persons concerned with family separation. Attendance is mandated for divorcing parents by the Bowie County District Courts.
URL:https://cbe.texarkanacollege.edu/register/lets-talk-about-kids-9/
LOCATION:Business & Computer Technology (BCT) Building\, Levi Hall\, 2500 N. Robison Rd.\, Texarkana\, 75503
CATEGORIES:General Interest
END:VEVENT
BEGIN:VEVENT
DTSTART;TZID=America/Chicago:20260207T090000
DTEND;TZID=America/Chicago:20260207T130000
DTSTAMP:20260422T004511
CREATED:20251027T184213Z
LAST-MODIFIED:20251027T184219Z
UID:73848-1770454800-1770469200@cbe.texarkanacollege.edu
SUMMARY:Let's Talk About Kids
DESCRIPTION:SATURDAY \n\n\n\nLet’s Talk About Kids is being conducted to provide information to families and children who are affected by divorce. The seminar is open to all persons concerned with family separation. Attendance is mandated for divorcing parents by the Bowie County District Courts.
URL:https://cbe.texarkanacollege.edu/register/lets-talk-about-kids-14/
LOCATION:Business & Computer Technology (BCT) Building\, Levi Hall\, 2500 N. Robison Rd.\, Texarkana\, 75503
CATEGORIES:General Interest
END:VEVENT
BEGIN:VEVENT
DTSTART;TZID=America/Chicago:20251206T090000
DTEND;TZID=America/Chicago:20251206T130000
DTSTAMP:20260422T004511
CREATED:20251030T182200Z
LAST-MODIFIED:20251208T153024Z
UID:74034-1765011600-1765026000@cbe.texarkanacollege.edu
SUMMARY:Let's Talk About Kids
DESCRIPTION:SATURDAY \n\n\n\nLet’s Talk About Kids is being conducted to provide information to families and children who are affected by divorce. The seminar is open to all persons concerned with family separation. Attendance is mandated for divorcing parents by the Bowie County District Courts.
URL:https://cbe.texarkanacollege.edu/register/lets-talk-about-kids-19/
LOCATION:Business & Computer Technology (BCT) Building\, Levi Hall\, 2500 N. Robison Rd.\, Texarkana\, 75503
CATEGORIES:General Interest
END:VEVENT
BEGIN:VEVENT
DTSTART;TZID=America/Chicago:20251106T180000
DTEND;TZID=America/Chicago:20251106T210000
DTSTAMP:20260422T004511
CREATED:20250805T215252Z
LAST-MODIFIED:20250827T215506Z
UID:70969-1762452000-1762462800@cbe.texarkanacollege.edu
SUMMARY:Let's Talk About Kids
DESCRIPTION:THURSDAY \n\n\n\nLet’s Talk About Kids is being conducted to provide information to families and children who are affected by divorce. The seminar is open to all persons concerned with family separation. Attendance is mandated for divorcing parents by the Bowie County District Courts.
URL:https://cbe.texarkanacollege.edu/register/lets-talk-about-kids-7/
LOCATION:Business & Computer Technology (BCT) Building\, Levi Hall\, 2500 N. Robison Rd.\, Texarkana\, 75503
CATEGORIES:General Interest
END:VEVENT
BEGIN:VEVENT
DTSTART;TZID=America/Chicago:20251004T090000
DTEND;TZID=America/Chicago:20251004T130000
DTSTAMP:20260422T004511
CREATED:20250805T213723Z
LAST-MODIFIED:20250827T213229Z
UID:70957-1759568400-1759582800@cbe.texarkanacollege.edu
SUMMARY:Let's Talk About Kids
DESCRIPTION:SATURDAY\n\n\n\nLet’s Talk About Kids is being conducted to provide information to families and children who are affected by divorce. The seminar is open to all persons concerned with family separation. Attendance is mandated for divorcing parents by the Bowie County District Courts. \n\n\n\nClass dates are subject to cancellation. If a class is canceled\, a full refund will be issued within 7 to 10 business days.
URL:https://cbe.texarkanacollege.edu/register/lets-talk-about-kids-6/
LOCATION:Business & Computer Technology (BCT) Building\, Levi Hall\, 2500 N. Robison Rd.\, Texarkana\, 75503
CATEGORIES:General Interest
END:VEVENT
END:VCALENDAR

