BEGIN:VCALENDAR
VERSION:2.0
PRODID:-//Texarkana College Community Education - ECPv6.15.20//NONSGML v1.0//EN
CALSCALE:GREGORIAN
METHOD:PUBLISH
X-WR-CALNAME:Texarkana College Community Education
X-ORIGINAL-URL:https://cbe.texarkanacollege.edu
X-WR-CALDESC:Events for Texarkana College Community Education
REFRESH-INTERVAL;VALUE=DURATION:PT1H
X-Robots-Tag:noindex
X-PUBLISHED-TTL:PT1H
BEGIN:VTIMEZONE
TZID:America/Chicago
BEGIN:DAYLIGHT
TZOFFSETFROM:-0600
TZOFFSETTO:-0500
TZNAME:CDT
DTSTART:20250309T080000
END:DAYLIGHT
BEGIN:STANDARD
TZOFFSETFROM:-0500
TZOFFSETTO:-0600
TZNAME:CST
DTSTART:20251102T070000
END:STANDARD
BEGIN:DAYLIGHT
TZOFFSETFROM:-0600
TZOFFSETTO:-0500
TZNAME:CDT
DTSTART:20260308T080000
END:DAYLIGHT
BEGIN:STANDARD
TZOFFSETFROM:-0500
TZOFFSETTO:-0600
TZNAME:CST
DTSTART:20261101T070000
END:STANDARD
BEGIN:DAYLIGHT
TZOFFSETFROM:-0600
TZOFFSETTO:-0500
TZNAME:CDT
DTSTART:20270314T080000
END:DAYLIGHT
BEGIN:STANDARD
TZOFFSETFROM:-0500
TZOFFSETTO:-0600
TZNAME:CST
DTSTART:20271107T070000
END:STANDARD
END:VTIMEZONE
BEGIN:VEVENT
DTSTART;TZID=America/Chicago:20260413T180000
DTEND;TZID=America/Chicago:20260415T200000
DTSTAMP:20260423T231745
CREATED:20260219T173227Z
LAST-MODIFIED:20260410T194039Z
UID:76962-1776103200-1776283200@cbe.texarkanacollege.edu
SUMMARY:Beginner  Basic Computer Skills 🖥️
DESCRIPTION:Note: This is a 2‑night class📅 Monday\, April 13 and Wednesday\, April 15⏰ 6–8 PMClass will not meet on Tuesday. Only Monday and Wednesday. \n\n\n\nThis beginner‑friendly course is perfect for anyone who wants to feel more confident using a computer. Students will learn the basics\, including using a mouse and keyboard\, understanding the desktop\, opening programs\, and working with files and folders. \n\n\n\nWe’ll also cover essential everyday skills such as browsing the internet\, using email\, typing and formatting documents\, and staying safe online. Optional topics—like spreadsheets\, cloud storage\, and smartphone basics—may be included if time allows. \n\n\n\nNo prior experience needed—just come ready to learn!
URL:https://cbe.texarkanacollege.edu/register/beginner-computer-skills-%f0%9f%96%a5%ef%b8%8f/
LOCATION:Media Center Room 180 Computer Lab\, 2500 N Robison Road\, Texarkana\, Texas\, 75599\, United States
CATEGORIES:Computer Education
END:VEVENT
END:VCALENDAR

